BEGIN:VCALENDAR
VERSION:2.0
PRODID:-//Eventin//Event Calendar//EN
CALSCALE:GREGORIAN
METHOD:PUBLISH
BEGIN:VEVENT
UID:a010d56c15aaf99582221c1ce7f1e35b@gmtrainingandevents.com
SUMMARY:Current Winning Solutions
DESCRIPTION:Highlighting top-performing annuity products and sales strategi
 es.\n[gravityform id="3" title="true"]
LOCATION:Online
DTSTAMP:20260422T081626Z
DTSTART:20260901T120000Z
DTEND:20260901T210000Z
END:VEVENT
END:VCALENDAR
