BEGIN:VCALENDAR
VERSION:2.0
PRODID:-//Eventin//Event Calendar//EN
CALSCALE:GREGORIAN
METHOD:PUBLISH
BEGIN:VEVENT
UID:b2e24baaa54006df3118d1466844803c@gmtrainingandevents.com
SUMMARY:ACA Bootcamp – Prep for OE 26
DESCRIPTION:Prepare your business for a high-performing Open Enrollment sea
 son.\n[gravityform id="3" title="false"]
LOCATION:Online
DTSTAMP:20260422T081227Z
DTSTART:20260909T120000Z
DTEND:20260909T210000Z
END:VEVENT
END:VCALENDAR
